Package: eisaR Version: 1.18.0 Command: /Library/Frameworks/R.framework/Resources/bin/R CMD check --install=check:eisaR.install-out.txt --library=/Library/Frameworks/R.framework/Resources/library --no-vignettes --timings eisaR_1.18.0.tar.gz StartedAt: 2025-02-11 03:00:15 -0500 (Tue, 11 Feb 2025) EndedAt: 2025-02-11 03:08:28 -0500 (Tue, 11 Feb 2025) EllapsedTime: 493.0 seconds RetCode: 0 Status: OK CheckDir: eisaR.Rcheck Warnings: 0