Package: eisaR Version: 1.18.0 Command: /home/biocbuild/bbs-3.20-bioc/R/bin/R CMD INSTALL eisaR StartedAt: 2025-02-03 15:20:48 -0500 (Mon, 03 Feb 2025) EndedAt: 2025-02-03 15:21:07 -0500 (Mon, 03 Feb 2025) EllapsedTime: 19.4 seconds RetCode: 0 Status: OK