Package: eisaR Version: 1.17.0 Command: rm -rf eisaR.buildbin-libdir && mkdir eisaR.buildbin-libdir && C:\Users\biocbuild\bbs-3.20-bioc\R\bin\R.exe CMD INSTALL --build --library=eisaR.buildbin-libdir eisaR_1.17.0.tar.gz StartedAt: 2024-07-16 06:09:12 -0400 (Tue, 16 Jul 2024) EndedAt: 2024-07-16 06:09:43 -0400 (Tue, 16 Jul 2024) EllapsedTime: 30.8 seconds RetCode: 0 Status: OK PackageFile: eisaR_1.17.0.zip PackageFileSize: 1.464 MiB