Package: eisaR Version: 1.18.0 Command: chmod a+r eisaR -R && F:\biocbuild\bbs-3.20-bioc\R\bin\R.exe CMD build --keep-empty-dirs --no-resave-data eisaR StartedAt: 2025-02-10 18:44:24 -0500 (Mon, 10 Feb 2025) EndedAt: 2025-02-10 18:46:39 -0500 (Mon, 10 Feb 2025) EllapsedTime: 134.7 seconds RetCode: 0 Status: OK PackageFile: eisaR_1.18.0.tar.gz PackageFileSize: 1.43 MiB