Package: eisaR Version: 1.18.0 Command: F:\biocbuild\bbs-3.20-bioc\R\bin\R.exe CMD INSTALL eisaR StartedAt: 2025-02-10 15:56:31 -0500 (Mon, 10 Feb 2025) EndedAt: 2025-02-10 15:56:59 -0500 (Mon, 10 Feb 2025) EllapsedTime: 28.0 seconds RetCode: 0 Status: OK