Package: eisaR Version: 1.18.0 Command: /home/biocbuild/R/R/bin/R CMD INSTALL eisaR StartedAt: 2025-02-03 20:31:14 -0000 (Mon, 03 Feb 2025) EndedAt: 2025-02-03 20:31:40 -0000 (Mon, 03 Feb 2025) EllapsedTime: 25.9 seconds RetCode: 0 Status: OK