Package: enhancerHomologSearch Version: 1.12.0 Maintainer: Jianhong Ou MaintainerEmail: jianhong.ou at duke.edu git_url: https://git.bioconductor.org/packages/enhancerHomologSearch git_branch: RELEASE_3_20 git_last_commit: 1f62e7e git_last_commit_date: 2024-10-29 11:02:58 -0500 (Tue, 29 Oct 2024)