Package: enhancerHomologSearch Version: 1.12.0 Command: rm -rf enhancerHomologSearch.buildbin-libdir && mkdir enhancerHomologSearch.buildbin-libdir && /Users/biocbuild/BBS/utils/build-universal.sh enhancerHomologSearch_1.12.0.tar.gz /Library/Frameworks/R.framework/Resources/bin/R enhancerHomologSearch.buildbin-libdir StartedAt: 2025-02-05 15:43:02 -0500 (Wed, 05 Feb 2025) EndedAt: 2025-02-05 15:48:15 -0500 (Wed, 05 Feb 2025) EllapsedTime: 312.7 seconds RetCode: 0 Status: OK PackageFile: enhancerHomologSearch_1.12.0.tgz PackageFileSize: 1.881 MiB