Package: enhancerHomologSearch Version: 1.12.0 Command: rm -rf enhancerHomologSearch.buildbin-libdir && mkdir enhancerHomologSearch.buildbin-libdir && /Users/biocbuild/BBS/utils/build-universal.sh enhancerHomologSearch_1.12.0.tar.gz /Library/Frameworks/R.framework/Resources/bin/R enhancerHomologSearch.buildbin-libdir StartedAt: 2025-02-11 13:09:11 -0500 (Tue, 11 Feb 2025) EndedAt: 2025-02-11 13:24:00 -0500 (Tue, 11 Feb 2025) EllapsedTime: 889.0 seconds RetCode: 0 Status: OK PackageFile: enhancerHomologSearch_1.12.0.tgz PackageFileSize: 1.943 MiB