Package: enhancerHomologSearch Version: 1.12.0 Command: /Library/Frameworks/R.framework/Resources/bin/R CMD build --keep-empty-dirs --no-resave-data enhancerHomologSearch StartedAt: 2025-02-10 18:39:37 -0500 (Mon, 10 Feb 2025) EndedAt: 2025-02-10 19:05:06 -0500 (Mon, 10 Feb 2025) EllapsedTime: 1528.4 seconds RetCode: 0 Status: OK PackageFile: enhancerHomologSearch_1.12.0.tar.gz PackageFileSize: 1.042 MiB