Package: enhancerHomologSearch Version: 1.12.0 Command: /Library/Frameworks/R.framework/Resources/bin/R CMD INSTALL enhancerHomologSearch StartedAt: 2025-02-10 15:41:27 -0500 (Mon, 10 Feb 2025) EndedAt: 2025-02-10 15:51:40 -0500 (Mon, 10 Feb 2025) EllapsedTime: 613.7 seconds RetCode: 0 Status: OK