Package: enhancerHomologSearch Version: 1.12.0 Command: F:\biocbuild\bbs-3.20-bioc\R\bin\R.exe CMD INSTALL enhancerHomologSearch StartedAt: 2025-02-10 16:17:12 -0500 (Mon, 10 Feb 2025) EndedAt: 2025-02-10 16:24:59 -0500 (Mon, 10 Feb 2025) EllapsedTime: 467.1 seconds RetCode: 0 Status: OK