Package: enhancerHomologSearch Version: 1.12.0 Command: /home/biocbuild/R/R/bin/R CMD build --keep-empty-dirs --no-resave-data enhancerHomologSearch StartedAt: 2025-02-03 23:22:07 -0000 (Mon, 03 Feb 2025) EndedAt: 2025-02-03 23:41:09 -0000 (Mon, 03 Feb 2025) EllapsedTime: 1142.4 seconds RetCode: 0 Status: OK PackageFile: enhancerHomologSearch_1.12.0.tar.gz PackageFileSize: 1.107 MiB