Package: ensembldb Version: 2.30.0 Command: /Library/Frameworks/R.framework/Resources/bin/R CMD INSTALL ensembldb StartedAt: 2025-01-30 15:57:40 -0500 (Thu, 30 Jan 2025) EndedAt: 2025-01-30 15:58:29 -0500 (Thu, 30 Jan 2025) EllapsedTime: 48.9 seconds RetCode: 0 Status: OK