Package: ensembldb Version: 2.30.0 Command: rm -rf ensembldb.buildbin-libdir && mkdir ensembldb.buildbin-libdir && /Users/biocbuild/BBS/utils/build-universal.sh ensembldb_2.30.0.tar.gz /Library/Frameworks/R.framework/Resources/bin/R ensembldb.buildbin-libdir StartedAt: 2025-01-31 12:45:05 -0500 (Fri, 31 Jan 2025) EndedAt: 2025-01-31 12:46:39 -0500 (Fri, 31 Jan 2025) EllapsedTime: 94.2 seconds RetCode: 0 Status: OK PackageFile: ensembldb_2.30.0.tgz PackageFileSize: 3.593 MiB