Package: ensembldb Version: 2.30.0 Command: /Library/Frameworks/R.framework/Resources/bin/R CMD check --install=check:ensembldb.install-out.txt --library=/Library/Frameworks/R.framework/Resources/library --no-vignettes --timings ensembldb_2.30.0.tar.gz StartedAt: 2025-01-31 03:30:23 -0500 (Fri, 31 Jan 2025) EndedAt: 2025-01-31 04:04:05 -0500 (Fri, 31 Jan 2025) EllapsedTime: 2022.0 seconds RetCode: 0 Status: OK CheckDir: ensembldb.Rcheck Warnings: 0