Package: ensembldb Version: 2.30.0 Command: F:\biocbuild\bbs-3.20-bioc\R\bin\R.exe CMD check --no-multiarch --install=check:ensembldb.install-out.txt --library=F:\biocbuild\bbs-3.20-bioc\R\library --no-vignettes --timings ensembldb_2.30.0.tar.gz StartedAt: 2025-01-31 01:45:52 -0500 (Fri, 31 Jan 2025) EndedAt: 2025-01-31 02:11:49 -0500 (Fri, 31 Jan 2025) EllapsedTime: 1556.9 seconds RetCode: 0 Status: OK CheckDir: ensembldb.Rcheck Warnings: 0