Package: epidecodeR Version: 1.14.0 Command: /Library/Frameworks/R.framework/Resources/bin/R CMD build --keep-empty-dirs --no-resave-data epidecodeR StartedAt: 2025-02-03 23:12:42 -0500 (Mon, 03 Feb 2025) EndedAt: 2025-02-03 23:13:45 -0500 (Mon, 03 Feb 2025) EllapsedTime: 63.0 seconds RetCode: 0 Status: OK PackageFile: epidecodeR_1.14.0.tar.gz PackageFileSize: 2.067 MiB