Package: epidecodeR Version: 1.14.0 Command: /Library/Frameworks/R.framework/Resources/bin/R CMD INSTALL epidecodeR StartedAt: 2025-02-03 18:07:54 -0500 (Mon, 03 Feb 2025) EndedAt: 2025-02-03 18:08:33 -0500 (Mon, 03 Feb 2025) EllapsedTime: 39.0 seconds RetCode: 0 Status: OK