Package: epidecodeR Version: 1.14.0 Command: /Library/Frameworks/R.framework/Resources/bin/R CMD INSTALL epidecodeR StartedAt: 2025-02-10 16:37:35 -0500 (Mon, 10 Feb 2025) EndedAt: 2025-02-10 16:38:40 -0500 (Mon, 10 Feb 2025) EllapsedTime: 65.7 seconds RetCode: 0 Status: OK