Package: epigenomix Version: 1.46.0 Command: rm -rf epigenomix.buildbin-libdir && mkdir epigenomix.buildbin-libdir && /Users/biocbuild/BBS/utils/build-universal.sh epigenomix_1.46.0.tar.gz /Library/Frameworks/R.framework/Resources/bin/R epigenomix.buildbin-libdir StartedAt: 2025-02-04 12:53:59 -0500 (Tue, 04 Feb 2025) EndedAt: 2025-02-04 12:55:27 -0500 (Tue, 04 Feb 2025) EllapsedTime: 87.7 seconds RetCode: 0 Status: OK PackageFile: epigenomix_1.46.0.tgz PackageFileSize: 961.5 KiB