Package: epigenomix Version: 1.46.0 Command: /Library/Frameworks/R.framework/Resources/bin/R CMD build --keep-empty-dirs --no-resave-data epigenomix StartedAt: 2025-02-03 18:45:43 -0500 (Mon, 03 Feb 2025) EndedAt: 2025-02-03 18:49:10 -0500 (Mon, 03 Feb 2025) EllapsedTime: 206.4 seconds RetCode: 0 Status: OK PackageFile: epigenomix_1.46.0.tar.gz PackageFileSize: 426.5 KiB