Package: epigenomix Version: 1.46.0 Command: /home/biocbuild/bbs-3.20-bioc/R/bin/R CMD INSTALL epigenomix StartedAt: 2025-02-03 15:51:00 -0500 (Mon, 03 Feb 2025) EndedAt: 2025-02-03 15:51:39 -0500 (Mon, 03 Feb 2025) EllapsedTime: 39.3 seconds RetCode: 0 Status: OK