Package: epigenomix Version: 1.46.0 Command: rm -rf epigenomix.buildbin-libdir && mkdir epigenomix.buildbin-libdir && F:\biocbuild\bbs-3.20-bioc\R\bin\R.exe CMD INSTALL --build --library=epigenomix.buildbin-libdir epigenomix_1.46.0.tar.gz StartedAt: 2025-02-04 08:27:02 -0500 (Tue, 04 Feb 2025) EndedAt: 2025-02-04 08:28:29 -0500 (Tue, 04 Feb 2025) EllapsedTime: 87.7 seconds RetCode: 0 Status: OK PackageFile: epigenomix_1.46.0.zip PackageFileSize: 968.3 KiB