Package: epigenomix Version: 1.46.0 Command: /home/biocbuild/R/R/bin/R CMD check --install=check:epigenomix.install-out.txt --library=/home/biocbuild/R/R/site-library --no-vignettes --timings epigenomix_1.46.0.tar.gz StartedAt: 2025-01-31 06:01:25 -0000 (Fri, 31 Jan 2025) EndedAt: 2025-01-31 06:07:26 -0000 (Fri, 31 Jan 2025) EllapsedTime: 361.3 seconds RetCode: 0 Status: OK CheckDir: epigenomix.Rcheck Warnings: 0