Package: epigenomix Version: 1.46.0 Command: /home/biocbuild/R/R/bin/R CMD INSTALL epigenomix StartedAt: 2025-02-03 21:05:25 -0000 (Mon, 03 Feb 2025) EndedAt: 2025-02-03 21:06:12 -0000 (Mon, 03 Feb 2025) EllapsedTime: 47.8 seconds RetCode: 0 Status: OK