Package: epigraHMM Version: 1.14.0 Command: rm -rf epigraHMM.buildbin-libdir && mkdir epigraHMM.buildbin-libdir && /Users/biocbuild/BBS/utils/build-universal.sh epigraHMM_1.14.0.tar.gz /Library/Frameworks/R.framework/Resources/bin/R epigraHMM.buildbin-libdir StartedAt: 2025-02-12 14:58:59 -0500 (Wed, 12 Feb 2025) EndedAt: 2025-02-12 15:01:09 -0500 (Wed, 12 Feb 2025) EllapsedTime: 130.3 seconds RetCode: 0 Status: OK PackageFile: epigraHMM_1.14.0.tgz PackageFileSize: 2.013 MiB