Package: epigraHMM Version: 1.14.0 Command: /Library/Frameworks/R.framework/Resources/bin/R CMD check --install=check:epigraHMM.install-out.txt --library=/Library/Frameworks/R.framework/Resources/library --no-vignettes --timings epigraHMM_1.14.0.tar.gz StartedAt: 2025-02-04 19:09:28 -0500 (Tue, 04 Feb 2025) EndedAt: 2025-02-04 19:16:50 -0500 (Tue, 04 Feb 2025) EllapsedTime: 442.2 seconds RetCode: 0 Status: WARNINGS CheckDir: epigraHMM.Rcheck Warnings: 1