Package: epigraHMM Version: 1.14.0 Command: /home/biocbuild/bbs-3.20-bioc/R/bin/R CMD check --install=check:epigraHMM.install-out.txt --library=/home/biocbuild/bbs-3.20-bioc/R/site-library --timings epigraHMM_1.14.0.tar.gz StartedAt: 2025-02-10 22:00:54 -0500 (Mon, 10 Feb 2025) EndedAt: 2025-02-10 22:15:02 -0500 (Mon, 10 Feb 2025) EllapsedTime: 847.9 seconds RetCode: 0 Status: WARNINGS CheckDir: epigraHMM.Rcheck Warnings: 1