Package: epigraHMM Version: 1.14.0 Command: /home/biocbuild/bbs-3.20-bioc/R/bin/R CMD INSTALL epigraHMM StartedAt: 2025-02-03 16:07:57 -0500 (Mon, 03 Feb 2025) EndedAt: 2025-02-03 16:10:21 -0500 (Mon, 03 Feb 2025) EllapsedTime: 143.9 seconds RetCode: 0 Status: OK