Package: epigraHMM Version: 1.14.0 Command: rm -rf epigraHMM.buildbin-libdir && mkdir epigraHMM.buildbin-libdir && F:\biocbuild\bbs-3.20-bioc\R\bin\R.exe CMD INSTALL --build --library=epigraHMM.buildbin-libdir epigraHMM_1.14.0.tar.gz StartedAt: 2025-02-04 08:27:05 -0500 (Tue, 04 Feb 2025) EndedAt: 2025-02-04 08:29:39 -0500 (Tue, 04 Feb 2025) EllapsedTime: 154.8 seconds RetCode: 0 Status: OK PackageFile: epigraHMM_1.14.0.zip PackageFileSize: 2.186 MiB