Package: epigraHMM Version: 1.14.0 Command: /home/biocbuild/R/R/bin/R CMD INSTALL epigraHMM StartedAt: 2025-02-10 21:07:36 -0000 (Mon, 10 Feb 2025) EndedAt: 2025-02-10 21:10:35 -0000 (Mon, 10 Feb 2025) EllapsedTime: 179.6 seconds RetCode: 0 Status: OK