Package: epiregulon Version: 1.2.0 Command: /Library/Frameworks/R.framework/Resources/bin/R CMD INSTALL epiregulon StartedAt: 2025-02-03 16:37:43 -0500 (Mon, 03 Feb 2025) EndedAt: 2025-02-03 16:39:05 -0500 (Mon, 03 Feb 2025) EllapsedTime: 82.6 seconds RetCode: 0 Status: OK