Package: epiregulon Version: 1.2.0 Command: chmod a+r epiregulon -R && F:\biocbuild\bbs-3.20-bioc\R\bin\R.exe CMD build --keep-empty-dirs --no-resave-data epiregulon StartedAt: 2025-02-03 18:54:36 -0500 (Mon, 03 Feb 2025) EndedAt: 2025-02-03 19:03:48 -0500 (Mon, 03 Feb 2025) EllapsedTime: 551.7 seconds RetCode: 0 Status: OK PackageFile: epiregulon_1.2.0.tar.gz PackageFileSize: 714.8 KiB