Package: epiregulon Version: 1.2.0 Command: F:\biocbuild\bbs-3.20-bioc\R\bin\R.exe CMD INSTALL epiregulon StartedAt: 2025-02-03 16:54:46 -0500 (Mon, 03 Feb 2025) EndedAt: 2025-02-03 16:55:43 -0500 (Mon, 03 Feb 2025) EllapsedTime: 57.0 seconds RetCode: 0 Status: OK