Package: epiregulon Version: 1.2.0 Command: /home/biocbuild/R/R/bin/R CMD build --keep-empty-dirs --no-resave-data epiregulon StartedAt: 2025-02-10 23:15:48 -0000 (Mon, 10 Feb 2025) EndedAt: 2025-02-10 23:18:00 -0000 (Mon, 10 Feb 2025) EllapsedTime: 132.0 seconds RetCode: 1 Status: ERROR PackageFile: None PackageFileSize: NA