Package: epivizr Version: 2.36.0 Command: /home/biocbuild/bbs-3.20-bioc/R/bin/R CMD build --keep-empty-dirs --no-resave-data --md5 epivizr StartedAt: 2025-02-03 17:21:06 -0500 (Mon, 03 Feb 2025) EndedAt: 2025-02-03 17:22:17 -0500 (Mon, 03 Feb 2025) EllapsedTime: 71.1 seconds RetCode: 0 Status: OK PackageFile: epivizr_2.36.0.tar.gz PackageFileSize: 1.182 MiB