Package: epivizr Version: 2.36.0 Command: rm -rf epivizr.buildbin-libdir && mkdir epivizr.buildbin-libdir && F:\biocbuild\bbs-3.20-bioc\R\bin\R.exe CMD INSTALL --build --library=epivizr.buildbin-libdir epivizr_2.36.0.tar.gz StartedAt: 2025-02-04 08:27:31 -0500 (Tue, 04 Feb 2025) EndedAt: 2025-02-04 08:28:46 -0500 (Tue, 04 Feb 2025) EllapsedTime: 74.9 seconds RetCode: 0 Status: OK PackageFile: epivizr_2.36.0.zip PackageFileSize: 1.987 MiB