Package: epivizr Version: 2.36.0 Command: F:\biocbuild\bbs-3.20-bioc\R\bin\R.exe CMD INSTALL epivizr StartedAt: 2025-02-03 16:42:33 -0500 (Mon, 03 Feb 2025) EndedAt: 2025-02-03 16:43:42 -0500 (Mon, 03 Feb 2025) EllapsedTime: 68.5 seconds RetCode: 0 Status: OK