Package: epivizrChart Version: 1.28.0 Command: /Library/Frameworks/R.framework/Resources/bin/R CMD build --keep-empty-dirs --no-resave-data epivizrChart StartedAt: 2025-02-03 23:21:34 -0500 (Mon, 03 Feb 2025) EndedAt: 2025-02-03 23:24:04 -0500 (Mon, 03 Feb 2025) EllapsedTime: 150.0 seconds RetCode: 0 Status: OK PackageFile: epivizrChart_1.28.0.tar.gz PackageFileSize: 5.303 MiB