Package: epivizrChart Version: 1.28.0 Command: rm -rf epivizrChart.buildbin-libdir && mkdir epivizrChart.buildbin-libdir && /Users/biocbuild/BBS/utils/build-universal.sh epivizrChart_1.28.0.tar.gz /Library/Frameworks/R.framework/Resources/bin/R epivizrChart.buildbin-libdir StartedAt: 2025-02-11 13:10:17 -0500 (Tue, 11 Feb 2025) EndedAt: 2025-02-11 13:12:37 -0500 (Tue, 11 Feb 2025) EllapsedTime: 139.7 seconds RetCode: 0 Status: OK PackageFile: epivizrChart_1.28.0.tgz PackageFileSize: 6.431 MiB