Package: epivizrChart Version: 1.28.0 Command: /Library/Frameworks/R.framework/Resources/bin/R CMD build --keep-empty-dirs --no-resave-data epivizrChart StartedAt: 2025-02-10 18:44:53 -0500 (Mon, 10 Feb 2025) EndedAt: 2025-02-10 18:49:02 -0500 (Mon, 10 Feb 2025) EllapsedTime: 249.6 seconds RetCode: 0 Status: OK PackageFile: epivizrChart_1.28.0.tar.gz PackageFileSize: 5.303 MiB