Package: epivizrChart Version: 1.28.0 Command: chmod a+r epivizrChart -R && F:\biocbuild\bbs-3.20-bioc\R\bin\R.exe CMD build --keep-empty-dirs --no-resave-data epivizrChart StartedAt: 2025-02-03 18:58:14 -0500 (Mon, 03 Feb 2025) EndedAt: 2025-02-03 19:01:23 -0500 (Mon, 03 Feb 2025) EllapsedTime: 188.4 seconds RetCode: 0 Status: OK PackageFile: epivizrChart_1.28.0.tar.gz PackageFileSize: 5.304 MiB