Package: epivizrServer Version: 1.34.0 Command: /Library/Frameworks/R.framework/Resources/bin/R CMD build --keep-empty-dirs --no-resave-data epivizrServer StartedAt: 2025-02-03 18:49:10 -0500 (Mon, 03 Feb 2025) EndedAt: 2025-02-03 18:49:24 -0500 (Mon, 03 Feb 2025) EllapsedTime: 14.3 seconds RetCode: 0 Status: OK PackageFile: epivizrServer_1.34.0.tar.gz PackageFileSize: 229.9 KiB