Package: epivizrServer Version: 1.34.0 Command: chmod a+r epivizrServer -R && F:\biocbuild\bbs-3.20-bioc\R\bin\R.exe CMD build --keep-empty-dirs --no-resave-data epivizrServer StartedAt: 2025-02-03 18:59:20 -0500 (Mon, 03 Feb 2025) EndedAt: 2025-02-03 18:59:32 -0500 (Mon, 03 Feb 2025) EllapsedTime: 12.0 seconds RetCode: 0 Status: OK PackageFile: epivizrServer_1.34.0.tar.gz PackageFileSize: 230 KiB