Package: epivizrServer Version: 1.34.0 Command: F:\biocbuild\bbs-3.20-bioc\R\bin\R.exe CMD check --no-multiarch --install=check:epivizrServer.install-out.txt --library=F:\biocbuild\bbs-3.20-bioc\R\library --no-vignettes --timings epivizrServer_1.34.0.tar.gz StartedAt: 2025-02-04 01:39:54 -0500 (Tue, 04 Feb 2025) EndedAt: 2025-02-04 01:40:32 -0500 (Tue, 04 Feb 2025) EllapsedTime: 38.0 seconds RetCode: 0 Status: OK CheckDir: epivizrServer.Rcheck Warnings: 0