Package: epivizrServer Version: 1.34.0 Command: /home/biocbuild/R/R/bin/R CMD check --install=check:epivizrServer.install-out.txt --library=/home/biocbuild/R/R/site-library --no-vignettes --timings epivizrServer_1.34.0.tar.gz StartedAt: 2025-02-04 06:50:27 -0000 (Tue, 04 Feb 2025) EndedAt: 2025-02-04 06:50:59 -0000 (Tue, 04 Feb 2025) EllapsedTime: 32.1 seconds RetCode: 0 Status: OK CheckDir: epivizrServer.Rcheck Warnings: 0