Package: epivizrStandalone Version: 1.34.0 Command: rm -rf epivizrStandalone.buildbin-libdir && mkdir epivizrStandalone.buildbin-libdir && /Users/biocbuild/BBS/utils/build-universal.sh epivizrStandalone_1.34.0.tar.gz /Library/Frameworks/R.framework/Resources/bin/R epivizrStandalone.buildbin-libdir StartedAt: 2025-02-05 15:47:13 -0500 (Wed, 05 Feb 2025) EndedAt: 2025-02-05 15:48:07 -0500 (Wed, 05 Feb 2025) EllapsedTime: 54.1 seconds RetCode: 0 Status: OK PackageFile: epivizrStandalone_1.34.0.tgz PackageFileSize: 295.2 KiB