Package: epivizrStandalone Version: 1.34.0 Command: /Library/Frameworks/R.framework/Resources/bin/R CMD build --keep-empty-dirs --no-resave-data epivizrStandalone StartedAt: 2025-02-03 23:22:35 -0500 (Mon, 03 Feb 2025) EndedAt: 2025-02-03 23:23:32 -0500 (Mon, 03 Feb 2025) EllapsedTime: 56.9 seconds RetCode: 0 Status: OK PackageFile: epivizrStandalone_1.34.0.tar.gz PackageFileSize: 265.8 KiB