Package: epivizrStandalone Version: 1.34.0 Command: /Library/Frameworks/R.framework/Resources/bin/R CMD INSTALL epivizrStandalone StartedAt: 2025-02-03 16:02:26 -0500 (Mon, 03 Feb 2025) EndedAt: 2025-02-03 16:03:53 -0500 (Mon, 03 Feb 2025) EllapsedTime: 87.3 seconds RetCode: 0 Status: OK